BEGIN:VCALENDAR
VERSION:2.0
PRODID:-//The Osthoff Resort &amp; Spa - ECPv6.15.19//NONSGML v1.0//EN
CALSCALE:GREGORIAN
METHOD:PUBLISH
X-ORIGINAL-URL:https://osthoff.com
X-WR-CALDESC:Events for The Osthoff Resort &amp; Spa
REFRESH-INTERVAL;VALUE=DURATION:PT1H
X-Robots-Tag:noindex
X-PUBLISHED-TTL:PT1H
BEGIN:VTIMEZONE
TZID:America/Chicago
BEGIN:DAYLIGHT
TZOFFSETFROM:-0600
TZOFFSETTO:-0500
TZNAME:CDT
DTSTART:20250309T080000
END:DAYLIGHT
BEGIN:STANDARD
TZOFFSETFROM:-0500
TZOFFSETTO:-0600
TZNAME:CST
DTSTART:20251102T070000
END:STANDARD
BEGIN:DAYLIGHT
TZOFFSETFROM:-0600
TZOFFSETTO:-0500
TZNAME:CDT
DTSTART:20260308T080000
END:DAYLIGHT
BEGIN:STANDARD
TZOFFSETFROM:-0500
TZOFFSETTO:-0600
TZNAME:CST
DTSTART:20261101T070000
END:STANDARD
BEGIN:DAYLIGHT
TZOFFSETFROM:-0600
TZOFFSETTO:-0500
TZNAME:CDT
DTSTART:20270314T080000
END:DAYLIGHT
BEGIN:STANDARD
TZOFFSETFROM:-0500
TZOFFSETTO:-0600
TZNAME:CST
DTSTART:20271107T070000
END:STANDARD
END:VTIMEZONE
BEGIN:VEVENT
DTSTART;TZID=America/Chicago:20260424T190000
DTEND;TZID=America/Chicago:20260424T220000
DTSTAMP:20260425T103358
CREATED:20260106T215414Z
LAST-MODIFIED:20260420T155923Z
UID:10000647-1777057200-1777068000@osthoff.com
SUMMARY:Mark Croft
DESCRIPTION:Live Music at The Elk Room – Friday\, April 24\, 2026\nJoin us for an evening of music and fun as Mark Croft performs live at The Elk Room. Enjoy great tunes\, delicious drinks and scenic views – all open to the public. We hope to see you there!
URL:https://osthoff.com/event/mark-croft-2/
CATEGORIES:Elk Room,Live Music
ATTACH;FMTTYPE=image/png:https://osthoff.com/wp-content/uploads/Mark-Croft_FB-scaled.png
END:VEVENT
BEGIN:VEVENT
DTSTART;TZID=America/Chicago:20260424T173000
DTEND;TZID=America/Chicago:20260424T190000
DTSTAMP:20260425T103358
CREATED:20260226T220933Z
LAST-MODIFIED:20260226T220933Z
UID:10000662-1777051800-1777057200@osthoff.com
SUMMARY:An Osthoff Artisan Experience:  The Bread Edition (2-Day Workshop)
DESCRIPTION:Join us for a 2-day immersive breadmaking workshop on Friday\, April 24 from 5:30 – 7 PM and Saturday\, April 25 from 10 AM – 4 PM. Students will learn the art and science of baking a variety of artisan breads from start to finish in a fun\, hands-on setting. The experience includes a bread baking kit\, appetizers\, lunch\, and beverages. Price is per person plus tax and fees. Class tickets are non-refundable. \n\n\n12 steps of bread making\nPre-fermented doughs\nSourdough\nBaguettes\nFocaccia\n\n\n$150 per person
URL:https://osthoff.com/event/an-osthoff-artisan-experience-the-bread-edition-2-day-workshop/
CATEGORIES:Cooking Class
ATTACH;FMTTYPE=image/jpeg:https://osthoff.com/wp-content/uploads/BREAD.jpg
END:VEVENT
BEGIN:VEVENT
DTSTART;TZID=America/Chicago:20260423T173000
DTEND;TZID=America/Chicago:20260423T184500
DTSTAMP:20260425T103358
CREATED:20260406T145912Z
LAST-MODIFIED:20260406T145912Z
UID:10000681-1776965400-1776969900@osthoff.com
SUMMARY:Ayurveda 101: The Art of Ancient Wellness
DESCRIPTION:Join us Thursday\, April 23rd from 5:30–6:45 PM for an introductory Ayurveda class where we will explore the foundations of ancient holistic healing. Participants will learn core principles of mind‑body balance\, daily wellness routines\, and the three doshas. Leave with practical tools to support your health and well-being. Pre‑register for $25/person; walk‑ins welcome if space permits. Call us for more information (844) 566‑4392.\n\n$25 per person
URL:https://osthoff.com/event/ayurveda-101-the-art-of-ancient-wellness/
CATEGORIES:Aspira Spa Event
ATTACH;FMTTYPE=image/jpeg:https://osthoff.com/wp-content/uploads/VEDA-scaled.jpg
END:VEVENT
BEGIN:VEVENT
DTSTART;TZID=America/Chicago:20260418T190000
DTEND;TZID=America/Chicago:20260418T220000
DTSTAMP:20260425T103358
CREATED:20260106T215240Z
LAST-MODIFIED:20260119T183803Z
UID:10000646-1776538800-1776549600@osthoff.com
SUMMARY:Seth James
DESCRIPTION:Live Music at The Elk Room – Saturday\, April 18\, 2026\nJoin us for an evening of music and fun as Seth James performs live at The Elk Room. Enjoy great tunes\, delicious drinks and scenic views – all open to the public. We hope to see you there!
URL:https://osthoff.com/event/seth-james-5/
CATEGORIES:Elk Room,Live Music
ATTACH;FMTTYPE=image/png:https://osthoff.com/wp-content/uploads/Seth-James.png
END:VEVENT
BEGIN:VEVENT
DTSTART;TZID=America/Chicago:20260418T110000
DTEND;TZID=America/Chicago:20260418T140000
DTSTAMP:20260425T103358
CREATED:20260226T220748Z
LAST-MODIFIED:20260226T220748Z
UID:10000661-1776510000-1776520800@osthoff.com
SUMMARY:Choux Pastry
DESCRIPTION:Master the art of Choux pastry in this fun\, hands-on cooking class where you’ll create light and airy gougères\, classic cream puffs\, and elegant éclairs. You’ll also explore savory appetizers made with choux pastry while learning essential techniques for perfect rise\, texture\, and flavor every time. Price is per person plus tax & fees. Class tickets are non-refundable.\n\n\nPate a Choux\, Gougères\, Cream Puffs\, Eclairs\, and savory appetizers using choux pastry\n\n$69 per person
URL:https://osthoff.com/event/choux-pastry/
CATEGORIES:Cooking Class
ATTACH;FMTTYPE=image/jpeg:https://osthoff.com/wp-content/uploads/CHOUX.jpg
END:VEVENT
BEGIN:VEVENT
DTSTART;TZID=America/Chicago:20260417T190000
DTEND;TZID=America/Chicago:20260417T220000
DTSTAMP:20260425T103358
CREATED:20260106T215149Z
LAST-MODIFIED:20260106T215149Z
UID:10000645-1776452400-1776463200@osthoff.com
SUMMARY:Brady Lee
DESCRIPTION:Live Music at The Elk Room – Friday\, April 17\, 2026\nJoin us for an evening of music and fun as Brady Lee performs live at The Elk Room. Enjoy great tunes\, delicious drinks and scenic views – all open to the public. We hope to see you there!
URL:https://osthoff.com/event/brady-lee/
CATEGORIES:Elk Room,Live Music
ATTACH;FMTTYPE=image/jpeg:https://osthoff.com/wp-content/uploads/BradyLee17549-scaled.jpg
END:VEVENT
BEGIN:VEVENT
DTSTART;TZID=America/Chicago:20260411T190000
DTEND;TZID=America/Chicago:20260411T220000
DTSTAMP:20260425T103358
CREATED:20260106T215053Z
LAST-MODIFIED:20260119T183828Z
UID:10000644-1775934000-1775944800@osthoff.com
SUMMARY:Kylar Kuzio
DESCRIPTION:Live Music at The Elk Room – Saturday\, April 11\, 2026\nJoin us for an evening of music and fun as Kylar Kuzio performs live at The Elk Room. Enjoy great tunes\, delicious drinks and scenic views – all open to the public. We hope to see you there!
URL:https://osthoff.com/event/kylar-kuzio-4/
CATEGORIES:Elk Room,Live Music
ATTACH;FMTTYPE=image/png:https://osthoff.com/wp-content/uploads/Kylar-Kuzio.png
END:VEVENT
BEGIN:VEVENT
DTSTART;TZID=America/Chicago:20260411T163000
DTEND;TZID=America/Chicago:20260411T190000
DTSTAMP:20260425T103358
CREATED:20260226T220608Z
LAST-MODIFIED:20260226T220608Z
UID:10000660-1775925000-1775934000@osthoff.com
SUMMARY:Rack of Lamb Dinner
DESCRIPTION:Enjoy a delicious\, hands-on culinary experience where you’ll prepare an elegant rack of lamb paired with a vibrant pomegranate jus. Complete the dish with fluffy couscous and crisp snap peas\, as you learn techniques to create beautifully balanced meals. Price is per person plus tax & fees. Class tickets are non-refundable.\n\n\nRack of Lamb\nPomegranate Jus\nCouscous\nSnap Peas\n\n$79 per person
URL:https://osthoff.com/event/rack-of-lamb-dinner/
CATEGORIES:Cooking Class
ATTACH;FMTTYPE=image/jpeg:https://osthoff.com/wp-content/uploads/LAMB.jpg
END:VEVENT
BEGIN:VEVENT
DTSTART;TZID=America/Chicago:20260410T190000
DTEND;TZID=America/Chicago:20260410T220000
DTSTAMP:20260425T103358
CREATED:20260106T214958Z
LAST-MODIFIED:20260106T214958Z
UID:10000643-1775847600-1775858400@osthoff.com
SUMMARY:Acoustic Blu
DESCRIPTION:Live Music at The Elk Room – Friday\, April 10\, 2026\nJoin us for an evening of music and fun as Acoustic Blu performs live at The Elk Room. Enjoy great tunes\, delicious drinks and scenic views – all open to the public. We hope to see you there!
URL:https://osthoff.com/event/acoustic-blu/
CATEGORIES:Elk Room,Live Music
ATTACH;FMTTYPE=image/jpeg:https://osthoff.com/wp-content/uploads/Acoustic-BLue.jpg
END:VEVENT
BEGIN:VEVENT
DTSTART;TZID=America/Chicago:20260405T100000
DTEND;TZID=America/Chicago:20260405T140000
DTSTAMP:20260425T103358
CREATED:20260310T140713Z
LAST-MODIFIED:20260310T140713Z
UID:10000677-1775383200-1775397600@osthoff.com
SUMMARY:Easter Brunch
DESCRIPTION:Experience a joyful Easter celebration on Sunday\, April 5\, as our culinary team presents a curated brunch featuring slow‑roasted Prime Rib\, Omelet Station\, tender Herb‑Roasted Chicken\, BBQ Ribs with Apple Cider BBQ Sauce\, and Baked Cod with Lemon Butter. Save room for indulgent desserts—especially the White Chocolate Fountain and our house‑made cakes—plus a special visit from the Easter Bunny! \n\nJoin us from 10 AM–2 PM in the Grand Libelle Ballroom for a warm and welcoming Easter tradition your family will cherish year after year. \nAdults (17+) $59.95 | Children $1 per year of age (Pricing is per person plus taxes\, fees & gratuity)\n*A $20 per person fee will apply for cancellations made less than 72 hours prior to the event.
URL:https://osthoff.com/event/easter-brunch/
CATEGORIES:Holiday Brunch
ATTACH;FMTTYPE=image/jpeg:https://osthoff.com/wp-content/uploads/AdobeStock_1239694846-scaled.jpeg
END:VEVENT
BEGIN:VEVENT
DTSTART;TZID=America/Chicago:20260404T190000
DTEND;TZID=America/Chicago:20260404T220000
DTSTAMP:20260425T103358
CREATED:20260106T214818Z
LAST-MODIFIED:20260106T214818Z
UID:10000642-1775329200-1775340000@osthoff.com
SUMMARY:Franki Moscato
DESCRIPTION:Live Music at The Elk Room – Saturday\, April 4\, 2026\nJoin us for an evening of music and fun as Franki Moscato performs live at The Elk Room. Enjoy great tunes\, delicious drinks and scenic views – all open to the public. We hope to see you there!
URL:https://osthoff.com/event/franki-moscato/
CATEGORIES:Elk Room,Live Music
ATTACH;FMTTYPE=image/jpeg:https://osthoff.com/wp-content/uploads/franki-moscato.jpg
END:VEVENT
BEGIN:VEVENT
DTSTART;TZID=America/Chicago:20260403T190000
DTEND;TZID=America/Chicago:20260403T220000
DTSTAMP:20260425T103358
CREATED:20260106T214713Z
LAST-MODIFIED:20260324T201357Z
UID:10000641-1775242800-1775253600@osthoff.com
SUMMARY:Anna Marie
DESCRIPTION:Live Music at The Elk Room – Friday\, April 3\, 2026\nJoin us for an evening of music and fun as Anna Marie performs live at The Elk Room. Enjoy great tunes\, delicious drinks and scenic views – all open to the public. We hope to see you there!
URL:https://osthoff.com/event/anna-marie/
CATEGORIES:Elk Room,Live Music
ATTACH;FMTTYPE=image/png:https://osthoff.com/wp-content/uploads/Anna-Marie_FB-scaled.png
END:VEVENT
BEGIN:VEVENT
DTSTART;TZID=America/Chicago:20260403T173000
DTEND;TZID=America/Chicago:20260403T200000
DTSTAMP:20260425T103358
CREATED:20260106T212023Z
LAST-MODIFIED:20260106T212023Z
UID:10000627-1775237400-1775246400@osthoff.com
SUMMARY:Sushi Making
DESCRIPTION:Discover the art of sushi making and learn how to craft perfect rolls with fresh ingredients\, followed by a hands-on experience in preparing savory miso soup at The Osthoff Resort Cooking School. Price is per person plus tax & gratuity. Cancellations within 7 days will be charged in full.\n\nSushi sauces\nTuna and Salmon\nMaki\nSashimi\nNigiri\n\n\n$79 per person
URL:https://osthoff.com/event/sushi-making/
CATEGORIES:Cooking Class
ATTACH;FMTTYPE=image/jpeg:https://osthoff.com/wp-content/uploads/sushi.jpg
END:VEVENT
BEGIN:VEVENT
DTSTART;TZID=America/Chicago:20260328T190000
DTEND;TZID=America/Chicago:20260328T220000
DTSTAMP:20260425T103358
CREATED:20260106T214557Z
LAST-MODIFIED:20260324T202540Z
UID:10000640-1774724400-1774735200@osthoff.com
SUMMARY:Anthony Nix
DESCRIPTION:Live Music at The Elk Room – Saturday\, March 28\, 2026\nJoin us for an evening of music and fun as Anthony Nix performs live at The Elk Room. Enjoy great tunes\, delicious drinks and scenic views – all open to the public. We hope to see you there!
URL:https://osthoff.com/event/anthony-nix/
CATEGORIES:Elk Room,Live Music
ATTACH;FMTTYPE=image/png:https://osthoff.com/wp-content/uploads/Anthony-Nix-1-scaled.png
END:VEVENT
BEGIN:VEVENT
DTSTART;TZID=America/Chicago:20260328T163000
DTEND;TZID=America/Chicago:20260328T190000
DTSTAMP:20260425T103358
CREATED:20260106T211023Z
LAST-MODIFIED:20260106T211023Z
UID:10000624-1774715400-1774724400@osthoff.com
SUMMARY:French Cooking
DESCRIPTION:In this class the basics of regional French cooking will be discussed. Guests will prepare olive tapenade\, chicken and sausage cassoulet\, and ratatouille. Enjoy this hands-on experience to enhance your culinary skills. Price is per person plus tax and gratuity. Cancellation within 7 days will be charged in full.\n\nChicken and Sausage Cassoulet\nRatatouille\nOlive Tapenade\n\n\n$69 per person
URL:https://osthoff.com/event/french-cooking/
CATEGORIES:Cooking Class
ATTACH;FMTTYPE=image/jpeg:https://osthoff.com/wp-content/uploads/french-1.jpg
END:VEVENT
BEGIN:VEVENT
DTSTART;TZID=America/Chicago:20260327T190000
DTEND;TZID=America/Chicago:20260327T220000
DTSTAMP:20260425T103358
CREATED:20260106T214429Z
LAST-MODIFIED:20260106T214429Z
UID:10000639-1774638000-1774648800@osthoff.com
SUMMARY:Jim Ohlschmidt
DESCRIPTION:Live Music at The Elk Room – Friday\, March 27\, 2026\nJoin us for an evening of music and fun as Jim Ohlschmidt performs live at The Elk Room. Enjoy great tunes\, delicious drinks and scenic views – all open to the public. We hope to see you there!
URL:https://osthoff.com/event/jim-ohlschmidt-2/
CATEGORIES:Elk Room,Live Music
ATTACH;FMTTYPE=image/jpeg:https://osthoff.com/wp-content/uploads/Jim-Ohlschmidt.jpg
END:VEVENT
BEGIN:VEVENT
DTSTART;TZID=America/Chicago:20260327T173000
DTEND;TZID=America/Chicago:20260327T200000
DTSTAMP:20260425T103358
CREATED:20260226T220436Z
LAST-MODIFIED:20260226T220436Z
UID:10000659-1774632600-1774641600@osthoff.com
SUMMARY:French Cooking
DESCRIPTION:In this class the basics of regional French cooking will be discussed. Guests will prepare olive tapenade\, chicken and sausage cassoulet\, and ratatouille. Enjoy this hands-on experience to enhance your culinary skills. Price is per person plus tax and gratuity. Cancellation within 7 days will be charged in full.\n\nChicken and Sausage Cassoulet\nRatatouille\nOlive Tapenade\n\n\n$69 per person
URL:https://osthoff.com/event/french-cooking-2/
CATEGORIES:Cooking Class
ATTACH;FMTTYPE=image/jpeg:https://osthoff.com/wp-content/uploads/french-1.jpg
END:VEVENT
END:VCALENDAR