BEGIN:VCALENDAR
VERSION:2.0
PRODID:-//The Osthoff Resort &amp; Spa - ECPv6.15.19//NONSGML v1.0//EN
CALSCALE:GREGORIAN
METHOD:PUBLISH
X-ORIGINAL-URL:https://osthoff.com
X-WR-CALDESC:Events for The Osthoff Resort &amp; Spa
REFRESH-INTERVAL;VALUE=DURATION:PT1H
X-Robots-Tag:noindex
X-PUBLISHED-TTL:PT1H
BEGIN:VTIMEZONE
TZID:America/Chicago
BEGIN:DAYLIGHT
TZOFFSETFROM:-0600
TZOFFSETTO:-0500
TZNAME:CDT
DTSTART:20250309T080000
END:DAYLIGHT
BEGIN:STANDARD
TZOFFSETFROM:-0500
TZOFFSETTO:-0600
TZNAME:CST
DTSTART:20251102T070000
END:STANDARD
BEGIN:DAYLIGHT
TZOFFSETFROM:-0600
TZOFFSETTO:-0500
TZNAME:CDT
DTSTART:20260308T080000
END:DAYLIGHT
BEGIN:STANDARD
TZOFFSETFROM:-0500
TZOFFSETTO:-0600
TZNAME:CST
DTSTART:20261101T070000
END:STANDARD
BEGIN:DAYLIGHT
TZOFFSETFROM:-0600
TZOFFSETTO:-0500
TZNAME:CDT
DTSTART:20270314T080000
END:DAYLIGHT
BEGIN:STANDARD
TZOFFSETFROM:-0500
TZOFFSETTO:-0600
TZNAME:CST
DTSTART:20271107T070000
END:STANDARD
END:VTIMEZONE
BEGIN:VEVENT
DTSTART;TZID=America/Chicago:20260423T173000
DTEND;TZID=America/Chicago:20260423T184500
DTSTAMP:20260421T003222
CREATED:20260406T145912Z
LAST-MODIFIED:20260406T145912Z
UID:10000681-1776965400-1776969900@osthoff.com
SUMMARY:Ayurveda 101: The Art of Ancient Wellness
DESCRIPTION:Join us Thursday\, April 23rd from 5:30–6:45 PM for an introductory Ayurveda class where we will explore the foundations of ancient holistic healing. Participants will learn core principles of mind‑body balance\, daily wellness routines\, and the three doshas. Leave with practical tools to support your health and well-being. Pre‑register for $25/person; walk‑ins welcome if space permits. Call us for more information (844) 566‑4392.\n\n$25 per person
URL:https://osthoff.com/event/ayurveda-101-the-art-of-ancient-wellness/
CATEGORIES:Aspira Spa Event
ATTACH;FMTTYPE=image/jpeg:https://osthoff.com/wp-content/uploads/VEDA-scaled.jpg
END:VEVENT
BEGIN:VEVENT
DTSTART;TZID=America/Chicago:20260424T173000
DTEND;TZID=America/Chicago:20260424T190000
DTSTAMP:20260421T003222
CREATED:20260226T220933Z
LAST-MODIFIED:20260226T220933Z
UID:10000662-1777051800-1777057200@osthoff.com
SUMMARY:An Osthoff Artisan Experience:  The Bread Edition (2-Day Workshop)
DESCRIPTION:Join us for a 2-day immersive breadmaking workshop on Friday\, April 24 from 5:30 – 7 PM and Saturday\, April 25 from 10 AM – 4 PM. Students will learn the art and science of baking a variety of artisan breads from start to finish in a fun\, hands-on setting. The experience includes a bread baking kit\, appetizers\, lunch\, and beverages. Price is per person plus tax and fees. Class tickets are non-refundable. \n\n\n12 steps of bread making\nPre-fermented doughs\nSourdough\nBaguettes\nFocaccia\n\n\n$150 per person
URL:https://osthoff.com/event/an-osthoff-artisan-experience-the-bread-edition-2-day-workshop/
CATEGORIES:Cooking Class
ATTACH;FMTTYPE=image/jpeg:https://osthoff.com/wp-content/uploads/BREAD.jpg
END:VEVENT
BEGIN:VEVENT
DTSTART;TZID=America/Chicago:20260424T190000
DTEND;TZID=America/Chicago:20260424T220000
DTSTAMP:20260421T003222
CREATED:20260106T215414Z
LAST-MODIFIED:20260420T155923Z
UID:10000647-1777057200-1777068000@osthoff.com
SUMMARY:Mark Croft
DESCRIPTION:Live Music at The Elk Room – Friday\, April 24\, 2026\nJoin us for an evening of music and fun as Mark Croft performs live at The Elk Room. Enjoy great tunes\, delicious drinks and scenic views – all open to the public. We hope to see you there!
URL:https://osthoff.com/event/mark-croft-2/
CATEGORIES:Elk Room,Live Music
ATTACH;FMTTYPE=image/png:https://osthoff.com/wp-content/uploads/Mark-Croft_FB-scaled.png
END:VEVENT
BEGIN:VEVENT
DTSTART;TZID=America/Chicago:20260425T100000
DTEND;TZID=America/Chicago:20260425T160000
DTSTAMP:20260421T003222
CREATED:20260226T221135Z
LAST-MODIFIED:20260226T221135Z
UID:10000663-1777111200-1777132800@osthoff.com
SUMMARY:An Osthoff Artisan Experience:  The Bread Edition (2-Day Workshop)
DESCRIPTION:Join us for a 2-day immersive breadmaking workshop on Friday\, April 24 from 5:30 – 7 PM and Saturday\, April 25 from 10 AM – 4 PM. Students will learn the art and science of baking a variety of artisan breads from start to finish in a fun\, hands-on setting. The experience includes a bread baking kit\, appetizers\, lunch\, and beverages. Price is per person plus tax and fees. Class tickets are non-refundable. \n\n\n12 steps of bread making\nPre-fermented doughs\nSourdough\nBaguettes\nFocaccia\n\n\n$150 per person
URL:https://osthoff.com/event/an-osthoff-artisan-experience-the-bread-edition-2-day-workshop-2/
CATEGORIES:Cooking Class
ATTACH;FMTTYPE=image/jpeg:https://osthoff.com/wp-content/uploads/BREAD.jpg
END:VEVENT
BEGIN:VEVENT
DTSTART;TZID=America/Chicago:20260425T190000
DTEND;TZID=America/Chicago:20260425T220000
DTSTAMP:20260421T003222
CREATED:20260106T215502Z
LAST-MODIFIED:20260119T183736Z
UID:10000648-1777143600-1777154400@osthoff.com
SUMMARY:Brent Bel
DESCRIPTION:Live Music at The Elk Room – Saturday\, April 25\, 2026\nJoin us for an evening of music and fun as Brent Bel performs live at The Elk Room. Enjoy great tunes\, delicious drinks and scenic views – all open to the public. We hope to see you there!
URL:https://osthoff.com/event/brent-bel-5/
CATEGORIES:Elk Room,Live Music
ATTACH;FMTTYPE=image/png:https://osthoff.com/wp-content/uploads/Brent-Bel.png
END:VEVENT
BEGIN:VEVENT
DTSTART;TZID=America/Chicago:20260430T180000
DTEND;TZID=America/Chicago:20260430T190000
DTSTAMP:20260421T003222
CREATED:20260226T221332Z
LAST-MODIFIED:20260226T221332Z
UID:10000664-1777572000-1777575600@osthoff.com
SUMMARY:Sip & Savor: Wine & Cheese Pairing
DESCRIPTION:Experience the perfect blend of flavors at the Osthoff Resort Cooking School with our Wine & Cheese Pairing event. From 6–7 PM on Thursday\, April 30th\, savor a selection of artisanal cheeses expertly paired with carefully chosen wines. Learn the art of pairing in a relaxed\, hands-on setting while enjoying a fun and social evening with friends or loved ones. Pricing is per person plus tax and fees. Tickets are non-refundable.\n\n\n\n4 Wines\n4 Cheeses\n\n\n$59 per person
URL:https://osthoff.com/event/sip-savor-wine-cheese-pairing/
CATEGORIES:Cocktail Class,Cooking Class
ATTACH;FMTTYPE=image/jpeg:https://osthoff.com/wp-content/uploads/Wine-1.jpg
END:VEVENT
BEGIN:VEVENT
DTSTART;TZID=America/Chicago:20260430T190000
DTEND;TZID=America/Chicago:20260430T220000
DTSTAMP:20260421T003222
CREATED:20260226T183755Z
LAST-MODIFIED:20260226T183755Z
UID:10000654-1777575600-1777586400@osthoff.com
SUMMARY:Will Carter
DESCRIPTION:Live Music at The Elk Room – Thursday\, April 30\, 2026\nJoin us for an evening of music and fun as Will Carter performs live at The Elk Room. Enjoy great tunes\, delicious drinks and scenic views – all open to the public. We hope to see you there!
URL:https://osthoff.com/event/will-carter/
CATEGORIES:Elk Room,Live Music
ATTACH;FMTTYPE=image/png:https://osthoff.com/wp-content/uploads/Live-Music-FB-Event-Photos-scaled.png
END:VEVENT
END:VCALENDAR